BEGIN:VCALENDAR
VERSION:2.0
PRODID:-//Gin Club - ECPv4.9.12//NONSGML v1.0//EN
CALSCALE:GREGORIAN
METHOD:PUBLISH
X-WR-CALNAME:Gin Club
X-ORIGINAL-URL:https://ginclub.lu
X-WR-CALDESC:Events for Gin Club
BEGIN:VTIMEZONE
TZID:UTC
BEGIN:STANDARD
TZOFFSETFROM:+0000
TZOFFSETTO:+0000
TZNAME:UTC
DTSTART:20190101T000000
END:STANDARD
END:VTIMEZONE
BEGIN:VEVENT
DTSTART;TZID=UTC:20190723T000000
DTEND;TZID=UTC:20190723T000000
DTSTAMP:20260425T124949
CREATED:20190723T070440Z
LAST-MODIFIED:20190723T071141Z
UID:1547-1563840000-1563840000@ginclub.lu
SUMMARY:Soirée Gin Filiers
DESCRIPTION:
URL:https://ginclub.lu/event/soiree-gin-filiers/
LOCATION:UM plateau
CATEGORIES:Community
ATTACH;FMTTYPE=image/jpeg:https://ginclub.lu/wp-content/uploads/2019/07/E4A3997.jpg
END:VEVENT
END:VCALENDAR